BEGIN:VCALENDAR
VERSION:2.0
PRODID:-//wp-events-plugin.com//6.6.4.4//EN
TZID:Europe/Paris
X-WR-TIMEZONE:Europe/Paris
BEGIN:VEVENT
UID:3@medecine-traditionnelle-chinoise-lyon.fr
DTSTART;TZID=Europe/Paris;VALUE=DATE:20240323
DTEND;TZID=Europe/Paris;VALUE=DATE:20240325
DTSTAMP:20230828T200824Z
URL:https://medecine-traditionnelle-chinoise-lyon.fr/formations/massage-ps
 ycho-bio-energetique-chinoise-2-copy-3/
SUMMARY:Massage psycho Bio &amp\; Énergétique Chinoise © - Module 5 Clin
 icat et Perfectionnement
DESCRIPTION:https://medecine-traditionnelle-chinoise-lyon.fr/formation/mass
 age-psycho-bio-energetique-chinoise/
CATEGORIES:Formation initiale
END:VEVENT
BEGIN:VTIMEZONE
TZID:Europe/Paris
X-LIC-LOCATION:Europe/Paris
BEGIN:STANDARD
DTSTART:20231029T020000
TZOFFSETFROM:+0200
TZOFFSETTO:+0100
TZNAME:CET
END:STANDARD
END:VTIMEZONE
END:VCALENDAR